Workbook
Name MONTHS: 'TITLE CODES'!$C$2

Sheet SUMMARY
A2: Department of Youth and Community Development
A3: 123 William Street 18th Fl., New York, NY 10038
A6: CBO Name:
A7: Address: | F7: DYCD ID #
A8: Budget Period: | B8: 7/1/2026 - 6/30/2027 | F8: Budget Code
F10: Month | G10: Year
F11: July | G11: 2026
A14: Salaries and Wages Justification Detalis
A15: Summary Page
B17: PERSONNEL SERVICES | D17: Amount Invoiced
B18: Salaried Employees | D18: ='Salaried Employees'!K32
B19: Hourly Employees | D19: ='Hourly Employees'!K32
B20: Seasonal Employees | D20: ='Seasonal Employees'!K32
B21: Total Salaries and Wages | D21: =SUM(D18:D20)
A25: Instructions:
A26: Please enter the salary details for each category listed in the tabs below (Salaried, Hourly, and Seasonal Employees). The totals will automatically populate on this sheet.

Sheet Salaried Employees
U1: Account Manager
U2: Accountant (606)
U3: Accountant/Bookkeeper (703)
B4: CBO NAME: | C4: =SUMMARY!B6 | E4: DYCD ID # | G4: =SUMMARY!G7 | I4: DYCD USE ONLY | U4: Actor
B5: BUDGET PERIOD: | C5: =SUMMARY!B8 | E5: BUDGET CODE | G5: =SUMMARY!G8 | I5: TITLE CODE SUBTOTAL | U5: Administrative Assistant (612)
F6: MONTH | G6: YEAR | U6: Administrator
F7: =SUMMARY!F11 | G7: =SUMMARY!G11 | I7: =IF(ISNA(R13)," ",R13) | K7: =IF(ISBLANK(I7),0,SUMIF(D13:D239,I7,G13:G240)) | U7: After School Program Director
I8: =IF(ISNA(R14)," ",R14) | K8: =IF(ISBLANK(I8),0,SUMIF(D13:D239,I8,G13:G240)) | U8: Art Specialist/Arts Partner
I9: =IF(ISNA(R15)," ",R15) | K9: =IF(ISBLANK(I9),0,SUMIF(D13:D239,I9,G13:G240)) | U9: Assessment/Intake (SED Only) (251)
B10: SALARIED EMPLOYEES | I10: =IF(ISNA(R16)," ",R16) | K10: =IF(ISBLANK(I10),0,SUMIF(D13:D239,I10,G13:G240)) | U10: Assistant Bookkeeper
B11: PAYROLL | C11: PAYEE | E11: PAYROLL PERIOD | G11: INVOICED AMOUNT | I11: =IF(ISNA(R17)," ",R17) | K11: =IF(ISBLANK(I11),0,SUMIF(D13:D239,I11,G13:G240)) | U11: Assistant Cook/Meal Preparer
B12: DATE | C12: NAME | D12: TITLE CODE | E12: FROM | F12: TO | I12: =IF(ISNA(R18)," ",R18) | K12: =IF(ISBLANK(I12),0,SUMIF(D13:D239,I12,G13:G240)) | U12: Assistant Coordinator
I13: =IF(ISNA(R19)," ",R19) | K13: =IF(ISBLANK(I13),0,SUMIF(D13:D239,I13,G13:G240)) | P13: PAGE 2 | R13: =Q13 | U13: Assistant Corporation Counsel/Senior Counsel
I14: =IF(ISNA(R20)," ",R20) | K14: =IF(ISBLANK(I14),0,SUMIF(D13:D239,I14,G13:G240)) | Q14: {=INDEX($D$14:$D$34,MATCH(0,COUNTIF($Q13:Q13,$D$14:$D$34),0))} | R14: {=INDEX($Q$13:$Q$144,MATCH(0,COUNTIF($R13:R13,$Q$13:$Q$144),0))} | U14: Assistant Director
I15: =IF(ISNA(R21)," ",R21) | K15: =IF(ISBLANK(I15),0,SUMIF(D13:D239,I15,G13:G240)) | Q15: {=INDEX($D$14:$D$34,MATCH(0,COUNTIF($Q13:Q14,$D$14:$D$34),0))} | R15: {=INDEX($Q$13:$Q$144,MATCH(0,COUNTIF($R13:R14,$Q$13:$Q$144),0))} | U15: Assistant Executive Director (602)
I16: =IF(ISNA(R22)," ",R22) | K16: =IF(ISBLANK(I16),0,SUMIF(D13:D239,I16,G13:G240)) | Q16: {=INDEX($D$14:$D$34,MATCH(0,COUNTIF($Q13:Q15,$D$14:$D$34),0))} | R16: {=INDEX($Q$13:$Q$144,MATCH(0,COUNTIF($R13:R15,$Q$13:$Q$144),0))} | U16: Assistant Manager
I17: =IF(ISNA(R23)," ",R23) | K17: =IF(ISBLANK(I17),0,SUMIF(D13:D239,I17,G13:G240)) | Q17: {=INDEX($D$14:$D$34,MATCH(0,COUNTIF($Q13:Q16,$D$14:$D$34),0))} | R17: {=INDEX($Q$13:$Q$144,MATCH(0,COUNTIF($R13:R16,$Q$13:$Q$144),0))} | U17: Assistant Mental Hygiene Director (702)
I18: =IF(ISNA(R24)," ",R24) | K18: =IF(ISBLANK(I18),0,SUMIF(D13:D239,I18,G13:G240)) | Q18: {=INDEX($D$14:$D$34,MATCH(0,COUNTIF($Q13:Q17,$D$14:$D$34),0))} | R18: {=INDEX($Q$13:$Q$144,MATCH(0,COUNTIF($R13:R17,$Q$13:$Q$144),0))} | U18: Assistant Principal (SED Only) (515)
I19: =IF(ISNA(R25)," ",R25) | K19: =IF(ISBLANK(I19),0,SUMIF(D13:D239,I19,G13:G240)) | Q19: {=INDEX($D$14:$D$34,MATCH(0,COUNTIF($Q13:Q18,$D$14:$D$34),0))} | R19: {=INDEX($Q$13:$Q$144,MATCH(0,COUNTIF($R13:R18,$Q$13:$Q$144),0))} | U19: Assistant Program Director (502)
I20: =IF(ISNA(R26)," ",R26) | K20: =IF(ISBLANK(I20),0,SUMIF(D13:D239,I20,G13:G240)) | Q20: {=INDEX($D$14:$D$34,MATCH(0,COUNTIF($Q13:Q19,$D$14:$D$34),0))} | R20: {=INDEX($Q$13:$Q$144,MATCH(0,COUNTIF($R13:R19,$Q$13:$Q$144),0))} | U20: Assistant Supervisor
I21: =IF(ISNA(R27)," ",R27) | K21: =IF(ISBLANK(I21),0,SUMIF(D13:D239,I21,G13:G240)) | Q21: {=INDEX($D$14:$D$34,MATCH(0,COUNTIF($Q13:Q20,$D$14:$D$34),0))} | R21: {=INDEX($Q$13:$Q$144,MATCH(0,COUNTIF($R13:R20,$Q$13:$Q$144),0))} | U21: Assistant Vice President
I22: =IF(ISNA(R28)," ",R28) | K22: =IF(ISBLANK(I22),0,SUMIF(D13:D239,I22,G13:G240)) | Q22: {=INDEX($D$14:$D$34,MATCH(0,COUNTIF($Q13:Q21,$D$14:$D$34),0))} | R22: {=INDEX($Q$13:$Q$144,MATCH(0,COUNTIF($R13:R21,$Q$13:$Q$144),0))} | U22: Associate Director
I23: =IF(ISNA(R29)," ",R29) | K23: =IF(ISBLANK(I23),0,SUMIF(D13:D239,I23,G13:G240)) | Q23: {=INDEX($D$14:$D$34,MATCH(0,COUNTIF($Q13:Q22,$D$14:$D$34),0))} | R23: {=INDEX($Q$13:$Q$144,MATCH(0,COUNTIF($R13:R22,$Q$13:$Q$144),0))} | U23: Associate Education Analyst
I24: =IF(ISNA(R30)," ",R30) | K24: =IF(ISBLANK(I24),0,SUMIF(D13:D239,I24,G13:G240)) | Q24: {=INDEX($D$14:$D$34,MATCH(0,COUNTIF($Q13:Q23,$D$14:$D$34),0))} | R24: {=INDEX($Q$13:$Q$144,MATCH(0,COUNTIF($R13:R23,$Q$13:$Q$144),0))} | U24: Associate Medical Director
I25: =IF(ISNA(R31)," ",R31) | K25: =IF(ISBLANK(I25),0,SUMIF(D13:D239,I25,G13:G240)) | Q25: {=INDEX($D$14:$D$34,MATCH(0,COUNTIF($Q13:Q24,$D$14:$D$34),0))} | R25: {=INDEX($Q$13:$Q$144,MATCH(0,COUNTIF($R13:R24,$Q$13:$Q$144),0))} | U25: Associate VP of Programs
I26: =IF(ISNA(R32)," ",R32) | K26: =IF(ISBLANK(I26),0,SUMIF(D13:D239,I26,G13:G240)) | Q26: {=INDEX($D$14:$D$34,MATCH(0,COUNTIF($Q13:Q25,$D$14:$D$34),0))} | R26: {=INDEX($Q$13:$Q$144,MATCH(0,COUNTIF($R13:R25,$Q$13:$Q$144),0))} | U26: Attendance Specialist
I27: =IF(ISNA(R33)," ",R33) | K27: =IF(ISBLANK(I27),0,SUMIF(D13:D239,I27,G13:G240)) | Q27: {=INDEX($D$14:$D$34,MATCH(0,COUNTIF($Q13:Q26,$D$14:$D$34),0))} | R27: {=INDEX($Q$13:$Q$144,MATCH(0,COUNTIF($R13:R26,$Q$13:$Q$144),0))} | U27: Attendant
I28: =IF(ISNA(R34)," ",R34) | K28: =IF(ISBLANK(I28),0,SUMIF(D13:D239,I28,G13:G240)) | Q28: {=INDEX($D$14:$D$34,MATCH(0,COUNTIF($Q13:Q27,$D$14:$D$34),0))} | R28: {=INDEX($Q$13:$Q$144,MATCH(0,COUNTIF($R13:R27,$Q$13:$Q$144),0))} | U28: Attorney
I29: =IF(ISNA(R35)," ",R35) | K29: =IF(ISBLANK(I29),0,SUMIF(D13:D239,I29,G13:G240)) | L29: =IF(ISNA(R35),"",R35) | Q29: {=INDEX($D$14:$D$34,MATCH(0,COUNTIF($Q13:Q28,$D$14:$D$34),0))} | R29: {=INDEX($Q$13:$Q$144,MATCH(0,COUNTIF($R13:R28,$Q$13:$Q$144),0))} | U29: Bilingual Specialist
I30: =IF(ISNA(R36)," ",R36) | K30: =IF(ISBLANK(I30),0,SUMIF(D13:D239,I30,G13:G240)) | Q30: {=INDEX($D$14:$D$34,MATCH(0,COUNTIF($Q13:Q29,$D$14:$D$34),0))} | R30: {=INDEX($Q$13:$Q$144,MATCH(0,COUNTIF($R13:R29,$Q$13:$Q$144),0))} | U30: Budget Manager
I31: =IF(ISNA(R37)," ",R37) | K31: =IF(ISBLANK(I31),0,SUMIF(D13:D239,I31,G13:G240)) | Q31: {=INDEX($D$14:$D$34,MATCH(0,COUNTIF($Q13:Q30,$D$14:$D$34),0))} | R31: {=INDEX($Q$13:$Q$144,MATCH(0,COUNTIF($R13:R30,$Q$13:$Q$144),0))} | U31: Camp Instructor
I32: TOTAL | K32: =SUM(K7:K31) | Q32: {=INDEX($D$14:$D$34,MATCH(0,COUNTIF($Q13:Q31,$D$14:$D$34),0))} | R32: {=INDEX($Q$13:$Q$144,MATCH(0,COUNTIF($R13:R31,$Q$13:$Q$144),0))} | U32: Career Advisor/Coach
I33: REC | K33: =IF(K32=G35+G76+G117+G158+G199+G240,"YES","NO") | Q33: {=INDEX($D$14:$D$34,MATCH(0,COUNTIF($Q13:Q32,$D$14:$D$34),0))} | R33: {=INDEX($Q$13:$Q$144,MATCH(0,COUNTIF($R13:R32,$Q$13:$Q$144),0))} | U33: Case Manager (301)
Q34: {=INDEX($D$14:$D$34,MATCH(0,COUNTIF($Q13:Q33,$D$14:$D$34),0))} | R34: {=INDEX($Q$13:$Q$144,MATCH(0,COUNTIF($R13:R33,$Q$13:$Q$144),0))} | U34: Case Manager Supervisor
G35: =SUM(G13:G34) | I35: FICA | K35: =ROUNDUP(K32*0.0765,2) | P35: PAGE 2A | Q35: {=INDEX($D$54:$D$75,MATCH(0,COUNTIF($Q13:Q34,$D$54:$D$75),0))} | R35: {=INDEX($Q$13:$Q$144,MATCH(0,COUNTIF($R13:R34,$Q$13:$Q$144),0))} | U35: Case Planner/Worker
B36: See page 2A - 2E to make additional entries of Full Time employees. | Q36: {=INDEX($D$55:$D$75,MATCH(0,COUNTIF($Q13:Q35,$D$55:$D$75),0))} | R36: {=INDEX($Q$13:$Q$144,MATCH(0,COUNTIF($R13:R35,$Q$13:$Q$144),0))} | U36: Chief Executive Officer
B37: Footnotes: | Q37: {=INDEX($D$56:$D$75,MATCH(0,COUNTIF($Q13:Q36,$D$56:$D$75),0))} | R37: {=INDEX($Q$13:$Q$144,MATCH(0,COUNTIF($R13:R36,$Q$13:$Q$144),0))} | U37: Chief Financial Officer
Q38: {=INDEX($D$57:$D$75,MATCH(0,COUNTIF($Q13:Q37,$D$57:$D$75),0))} | U38: Child Care Provider
Q39: {=INDEX($D$58:$D$79,MATCH(0,COUNTIF($Q13:Q38,$D$58:$D$75),0))} | U39: Clerical Associate
Q40: {=INDEX($D$59:$D$75,MATCH(0,COUNTIF($Q13:Q39,$D$59:$D$75),0))} | U40: Clerk
...

Sheet Hourly Employees
U1: Account Manager
U2: Accountant (606)
U3: Accountant/Bookkeeper (703)
B4: CBO NAME: | C4: =SUMMARY!B6 | E4: DYCD ID # | G4: =SUMMARY!G7 | I4: DYCD USE ONLY | U4: Actor
B5: BUDGET PERIOD: | C5: =SUMMARY!B8 | E5: BUDGET CODE | G5: =SUMMARY!G8 | I5: TITLE CODE SUBTOTAL | U5: Administrative Assistant (612)
F6: MONTH | G6: YEAR | U6: Administrator
F7: =SUMMARY!F11 | G7: =SUMMARY!G11 | I7: =IF(ISNA(R13)," ",R13) | K7: =IF(ISBLANK(I7),0,SUMIF(D13:D239,I7,G13:G240)) | U7: After School Program Director
I8: =IF(ISNA(R14)," ",R14) | K8: =IF(ISBLANK(I8),0,SUMIF(D13:D239,I8,G13:G240)) | U8: Art Specialist/Arts Partner
I9: =IF(ISNA(R15)," ",R15) | K9: =IF(ISBLANK(I9),0,SUMIF(D13:D239,I9,G13:G240)) | U9: Assessment/Intake (SED Only) (251)
B10: HOURLY EMPLOYEES | I10: =IF(ISNA(R16)," ",R16) | K10: =IF(ISBLANK(I10),0,SUMIF(D13:D239,I10,G13:G240)) | U10: Assistant Bookkeeper
B11: PAYROLL | C11: PAYEE | E11: PAYROLL PERIOD | G11: INVOICED AMOUNT | I11: =IF(ISNA(R17)," ",R17) | K11: =IF(ISBLANK(I11),0,SUMIF(D13:D239,I11,G13:G240)) | U11: Assistant Cook/Meal Preparer
B12: DATE | C12: NAME | D12: TITLE CODE | E12: FROM | F12: TO | I12: =IF(ISNA(R18)," ",R18) | K12: =IF(ISBLANK(I12),0,SUMIF(D13:D239,I12,G13:G240)) | U12: Assistant Coordinator
I13: =IF(ISNA(R19)," ",R19) | K13: =IF(ISBLANK(I13),0,SUMIF(D13:D239,I13,G13:G240)) | R13: =Q13 | U13: Assistant Corporation Counsel/Senior Counsel
I14: =IF(ISNA(R20)," ",R20) | K14: =IF(ISBLANK(I14),0,SUMIF(D13:D239,I14,G13:G240)) | Q14: {=INDEX($D$14:$D$34,MATCH(0,COUNTIF($Q13:Q13,$D$14:$D$34),0))} | R14: {=INDEX($Q$13:$Q$144,MATCH(0,COUNTIF($R13:R13,$Q$13:$Q$144),0))} | U14: Assistant Director
I15: =IF(ISNA(R21)," ",R21) | K15: =IF(ISBLANK(I15),0,SUMIF(D13:D239,I15,G13:G240)) | Q15: {=INDEX($D$14:$D$34,MATCH(0,COUNTIF($Q13:Q14,$D$14:$D$34),0))} | R15: {=INDEX($Q$13:$Q$144,MATCH(0,COUNTIF($R13:R14,$Q$13:$Q$144),0))} | U15: Assistant Executive Director (602)
I16: =IF(ISNA(R22)," ",R22) | K16: =IF(ISBLANK(I16),0,SUMIF(D13:D239,I16,G13:G240)) | Q16: {=INDEX($D$14:$D$34,MATCH(0,COUNTIF($Q13:Q15,$D$14:$D$34),0))} | R16: {=INDEX($Q$13:$Q$144,MATCH(0,COUNTIF($R13:R15,$Q$13:$Q$144),0))} | U16: Assistant Manager
I17: =IF(ISNA(R23)," ",R23) | K17: =IF(ISBLANK(I17),0,SUMIF(D13:D239,I17,G13:G240)) | Q17: {=INDEX($D$14:$D$34,MATCH(0,COUNTIF($Q13:Q16,$D$14:$D$34),0))} | R17: {=INDEX($Q$13:$Q$144,MATCH(0,COUNTIF($R13:R16,$Q$13:$Q$144),0))} | U17: Assistant Mental Hygiene Director (702)
I18: =IF(ISNA(R24)," ",R24) | K18: =IF(ISBLANK(I18),0,SUMIF(D13:D239,I18,G13:G240)) | Q18: {=INDEX($D$14:$D$34,MATCH(0,COUNTIF($Q13:Q17,$D$14:$D$34),0))} | R18: {=INDEX($Q$13:$Q$144,MATCH(0,COUNTIF($R13:R17,$Q$13:$Q$144),0))} | U18: Assistant Principal (SED Only) (515)
I19: =IF(ISNA(R25)," ",R25) | K19: =IF(ISBLANK(I19),0,SUMIF(D13:D239,I19,G13:G240)) | Q19: {=INDEX($D$14:$D$34,MATCH(0,COUNTIF($Q13:Q18,$D$14:$D$34),0))} | R19: {=INDEX($Q$13:$Q$144,MATCH(0,COUNTIF($R13:R18,$Q$13:$Q$144),0))} | U19: Assistant Program Director (502)
I20: =IF(ISNA(R26)," ",R26) | K20: =IF(ISBLANK(I20),0,SUMIF(D13:D239,I20,G13:G240)) | Q20: {=INDEX($D$14:$D$34,MATCH(0,COUNTIF($Q13:Q19,$D$14:$D$34),0))} | R20: {=INDEX($Q$13:$Q$144,MATCH(0,COUNTIF($R13:R19,$Q$13:$Q$144),0))} | U20: Assistant Supervisor
I21: =IF(ISNA(R27)," ",R27) | K21: =IF(ISBLANK(I21),0,SUMIF(D13:D239,I21,G13:G240)) | Q21: {=INDEX($D$14:$D$34,MATCH(0,COUNTIF($Q13:Q20,$D$14:$D$34),0))} | R21: {=INDEX($Q$13:$Q$144,MATCH(0,COUNTIF($R13:R20,$Q$13:$Q$144),0))} | U21: Assistant Vice President
I22: =IF(ISNA(R28)," ",R28) | K22: =IF(ISBLANK(I22),0,SUMIF(D13:D239,I22,G13:G240)) | Q22: {=INDEX($D$14:$D$34,MATCH(0,COUNTIF($Q13:Q21,$D$14:$D$34),0))} | R22: {=INDEX($Q$13:$Q$144,MATCH(0,COUNTIF($R13:R21,$Q$13:$Q$144),0))} | U22: Associate Director
I23: =IF(ISNA(R29)," ",R29) | K23: =IF(ISBLANK(I23),0,SUMIF(D13:D239,I23,G13:G240)) | Q23: {=INDEX($D$14:$D$34,MATCH(0,COUNTIF($Q13:Q22,$D$14:$D$34),0))} | R23: {=INDEX($Q$13:$Q$144,MATCH(0,COUNTIF($R13:R22,$Q$13:$Q$144),0))} | U23: Associate Education Analyst
I24: =IF(ISNA(R30)," ",R30) | K24: =IF(ISBLANK(I24),0,SUMIF(D13:D239,I24,G13:G240)) | Q24: {=INDEX($D$14:$D$34,MATCH(0,COUNTIF($Q13:Q23,$D$14:$D$34),0))} | R24: {=INDEX($Q$13:$Q$144,MATCH(0,COUNTIF($R13:R23,$Q$13:$Q$144),0))} | U24: Associate Medical Director
I25: =IF(ISNA(R31)," ",R31) | K25: =IF(ISBLANK(I25),0,SUMIF(D13:D239,I25,G13:G240)) | Q25: {=INDEX($D$14:$D$34,MATCH(0,COUNTIF($Q13:Q24,$D$14:$D$34),0))} | R25: {=INDEX($Q$13:$Q$144,MATCH(0,COUNTIF($R13:R24,$Q$13:$Q$144),0))} | U25: Associate VP of Programs
I26: =IF(ISNA(R32)," ",R32) | K26: =IF(ISBLANK(I26),0,SUMIF(D13:D239,I26,G13:G240)) | Q26: {=INDEX($D$14:$D$34,MATCH(0,COUNTIF($Q13:Q25,$D$14:$D$34),0))} | R26: {=INDEX($Q$13:$Q$144,MATCH(0,COUNTIF($R13:R25,$Q$13:$Q$144),0))} | U26: Attendance Specialist
I27: =IF(ISNA(R33)," ",R33) | K27: =IF(ISBLANK(I27),0,SUMIF(D13:D239,I27,G13:G240)) | Q27: {=INDEX($D$14:$D$34,MATCH(0,COUNTIF($Q13:Q26,$D$14:$D$34),0))} | R27: {=INDEX($Q$13:$Q$144,MATCH(0,COUNTIF($R13:R26,$Q$13:$Q$144),0))} | U27: Attendant
I28: =IF(ISNA(R34)," ",R34) | K28: =IF(ISBLANK(I28),0,SUMIF(D13:D239,I28,G13:G240)) | Q28: {=INDEX($D$14:$D$34,MATCH(0,COUNTIF($Q13:Q27,$D$14:$D$34),0))} | R28: {=INDEX($Q$13:$Q$144,MATCH(0,COUNTIF($R13:R27,$Q$13:$Q$144),0))} | U28: Attorney
I29: =IF(ISNA(R35)," ",R35) | K29: =IF(ISBLANK(I29),0,SUMIF(D13:D239,I29,G13:G240)) | L29: =IF(ISNA(R35),"",R35) | Q29: {=INDEX($D$14:$D$34,MATCH(0,COUNTIF($Q13:Q28,$D$14:$D$34),0))} | R29: {=INDEX($Q$13:$Q$144,MATCH(0,COUNTIF($R13:R28,$Q$13:$Q$144),0))} | U29: Bilingual Specialist
I30: =IF(ISNA(R36)," ",R36) | K30: =IF(ISBLANK(I30),0,SUMIF(D13:D239,I30,G13:G240)) | Q30: {=INDEX($D$14:$D$34,MATCH(0,COUNTIF($Q13:Q29,$D$14:$D$34),0))} | R30: {=INDEX($Q$13:$Q$144,MATCH(0,COUNTIF($R13:R29,$Q$13:$Q$144),0))} | U30: Budget Manager
I31: =IF(ISNA(R37)," ",R37) | K31: =IF(ISBLANK(I31),0,SUMIF(D13:D239,I31,G13:G240)) | Q31: {=INDEX($D$14:$D$34,MATCH(0,COUNTIF($Q13:Q30,$D$14:$D$34),0))} | R31: {=INDEX($Q$13:$Q$144,MATCH(0,COUNTIF($R13:R30,$Q$13:$Q$144),0))} | U31: Camp Instructor
I32: TOTAL | K32: =SUM(K7:K31) | Q32: {=INDEX($D$14:$D$34,MATCH(0,COUNTIF($Q13:Q31,$D$14:$D$34),0))} | R32: {=INDEX($Q$13:$Q$144,MATCH(0,COUNTIF($R13:R31,$Q$13:$Q$144),0))} | U32: Career Advisor/Coach
I33: REC | K33: =IF(K32=G35+G76+G117+G158+G199+G240,"YES","NO") | Q33: {=INDEX($D$14:$D$34,MATCH(0,COUNTIF($Q13:Q32,$D$14:$D$34),0))} | R33: {=INDEX($Q$13:$Q$144,MATCH(0,COUNTIF($R13:R32,$Q$13:$Q$144),0))} | U33: Case Manager (301)
Q34: {=INDEX($D$14:$D$34,MATCH(0,COUNTIF($Q13:Q33,$D$14:$D$34),0))} | R34: {=INDEX($Q$13:$Q$144,MATCH(0,COUNTIF($R13:R33,$Q$13:$Q$144),0))} | U34: Case Manager Supervisor
G35: =SUM(G13:G34) | I35: FICA | K35: =ROUNDUP(K32*0.0765,2) | P35: PAGE 2A | Q35: {=INDEX($D$54:$D$75,MATCH(0,COUNTIF($Q13:Q34,$D$54:$D$75),0))} | R35: {=INDEX($Q$13:$Q$144,MATCH(0,COUNTIF($R13:R34,$Q$13:$Q$144),0))} | U35: Case Planner/Worker
Q36: {=INDEX($D$55:$D$75,MATCH(0,COUNTIF($Q13:Q35,$D$55:$D$75),0))} | R36: {=INDEX($Q$13:$Q$144,MATCH(0,COUNTIF($R13:R35,$Q$13:$Q$144),0))} | U36: Chief Executive Officer
B37: Footnotes | Q37: {=INDEX($D$56:$D$75,MATCH(0,COUNTIF($Q13:Q36,$D$56:$D$75),0))} | R37: {=INDEX($Q$13:$Q$144,MATCH(0,COUNTIF($R13:R36,$Q$13:$Q$144),0))} | U37: Chief Financial Officer
Q38: {=INDEX($D$57:$D$75,MATCH(0,COUNTIF($Q13:Q37,$D$57:$D$75),0))} | U38: Child Care Provider
Q39: {=INDEX($D$58:$D$79,MATCH(0,COUNTIF($Q13:Q38,$D$58:$D$75),0))} | U39: Clerical Associate
Q40: {=INDEX($D$59:$D$75,MATCH(0,COUNTIF($Q13:Q39,$D$59:$D$75),0))} | U40: Clerk
...

Sheet Seasonal Employees
U1: Account Manager
U2: Accountant (606)
U3: Accountant/Bookkeeper (703)
B4: CBO NAME: | C4: =SUMMARY!B6 | E4: DYCD ID # | G4: =SUMMARY!G7 | I4: DYCD USE ONLY | U4: Actor
B5: BUDGET PERIOD: | C5: =SUMMARY!B8 | E5: BUDGET CODE | G5: =SUMMARY!G8 | I5: TITLE CODE SUBTOTAL | U5: Administrative Assistant (612)
F6: MONTH | G6: YEAR | U6: Administrator
F7: =SUMMARY!F11 | G7: =SUMMARY!G11 | I7: =IF(ISNA(R13)," ",R13) | K7: =IF(ISBLANK(I7),0,SUMIF(D13:D239,I7,G13:G240)) | U7: After School Program Director
I8: =IF(ISNA(R14)," ",R14) | K8: =IF(ISBLANK(I8),0,SUMIF(D13:D239,I8,G13:G240)) | U8: Art Specialist/Arts Partner
I9: =IF(ISNA(R15)," ",R15) | K9: =IF(ISBLANK(I9),0,SUMIF(D13:D239,I9,G13:G240)) | U9: Assessment/Intake (SED Only) (251)
B10: SEASONAL EMPLOYEES | I10: =IF(ISNA(R16)," ",R16) | K10: =IF(ISBLANK(I10),0,SUMIF(D13:D239,I10,G13:G240)) | U10: Assistant Bookkeeper
B11: PAYROLL | C11: PAYEE | E11: PAYROLL PERIOD | G11: INVOICED AMOUNT | I11: =IF(ISNA(R17)," ",R17) | K11: =IF(ISBLANK(I11),0,SUMIF(D13:D239,I11,G13:G240)) | U11: Assistant Cook/Meal Preparer
B12: DATE | C12: NAME | D12: TITLE CODE | E12: FROM | F12: TO | I12: =IF(ISNA(R18)," ",R18) | K12: =IF(ISBLANK(I12),0,SUMIF(D13:D239,I12,G13:G240)) | U12: Assistant Coordinator
I13: =IF(ISNA(R19)," ",R19) | K13: =IF(ISBLANK(I13),0,SUMIF(D13:D239,I13,G13:G240)) | Q13: {=INDEX($D$13:$D$34,MATCH(0,COUNTIF($Q12:Q12,$D$13:$D$34),0))} | R13: =Q13 | U13: Assistant Corporation Counsel/Senior Counsel
I14: =IF(ISNA(R20)," ",R20) | K14: =IF(ISBLANK(I14),0,SUMIF(D13:D239,I14,G13:G240)) | Q14: {=INDEX($D$14:$D$34,MATCH(0,COUNTIF($Q13:Q13,$D$14:$D$34),0))} | R14: {=INDEX($Q$13:$Q$144,MATCH(0,COUNTIF($R13:R13,$Q$13:$Q$144),0))} | U14: Assistant Director
I15: =IF(ISNA(R21)," ",R21) | K15: =IF(ISBLANK(I15),0,SUMIF(D13:D239,I15,G13:G240)) | Q15: {=INDEX($D$14:$D$34,MATCH(0,COUNTIF($Q13:Q14,$D$14:$D$34),0))} | R15: {=INDEX($Q$13:$Q$144,MATCH(0,COUNTIF($R13:R14,$Q$13:$Q$144),0))} | U15: Assistant Executive Director (602)
I16: =IF(ISNA(R22)," ",R22) | K16: =IF(ISBLANK(I16),0,SUMIF(D13:D239,I16,G13:G240)) | Q16: {=INDEX($D$14:$D$34,MATCH(0,COUNTIF($Q13:Q15,$D$14:$D$34),0))} | R16: {=INDEX($Q$13:$Q$144,MATCH(0,COUNTIF($R13:R15,$Q$13:$Q$144),0))} | U16: Assistant Manager
I17: =IF(ISNA(R23)," ",R23) | K17: =IF(ISBLANK(I17),0,SUMIF(D13:D239,I17,G13:G240)) | Q17: {=INDEX($D$14:$D$34,MATCH(0,COUNTIF($Q13:Q16,$D$14:$D$34),0))} | R17: {=INDEX($Q$13:$Q$144,MATCH(0,COUNTIF($R13:R16,$Q$13:$Q$144),0))} | U17: Assistant Mental Hygiene Director (702)
I18: =IF(ISNA(R24)," ",R24) | K18: =IF(ISBLANK(I18),0,SUMIF(D13:D239,I18,G13:G240)) | Q18: {=INDEX($D$14:$D$34,MATCH(0,COUNTIF($Q13:Q17,$D$14:$D$34),0))} | R18: {=INDEX($Q$13:$Q$144,MATCH(0,COUNTIF($R13:R17,$Q$13:$Q$144),0))} | U18: Assistant Principal (SED Only) (515)
I19: =IF(ISNA(R25)," ",R25) | K19: =IF(ISBLANK(I19),0,SUMIF(D13:D239,I19,G13:G240)) | Q19: {=INDEX($D$14:$D$34,MATCH(0,COUNTIF($Q13:Q18,$D$14:$D$34),0))} | R19: {=INDEX($Q$13:$Q$144,MATCH(0,COUNTIF($R13:R18,$Q$13:$Q$144),0))} | U19: Assistant Program Director (502)
I20: =IF(ISNA(R26)," ",R26) | K20: =IF(ISBLANK(I20),0,SUMIF(D13:D239,I20,G13:G240)) | Q20: {=INDEX($D$14:$D$34,MATCH(0,COUNTIF($Q13:Q19,$D$14:$D$34),0))} | R20: {=INDEX($Q$13:$Q$144,MATCH(0,COUNTIF($R13:R19,$Q$13:$Q$144),0))} | U20: Assistant Supervisor
I21: =IF(ISNA(R27)," ",R27) | K21: =IF(ISBLANK(I21),0,SUMIF(D13:D239,I21,G13:G240)) | Q21: {=INDEX($D$14:$D$34,MATCH(0,COUNTIF($Q13:Q20,$D$14:$D$34),0))} | R21: {=INDEX($Q$13:$Q$144,MATCH(0,COUNTIF($R13:R20,$Q$13:$Q$144),0))} | U21: Assistant Vice President
I22: =IF(ISNA(R28)," ",R28) | K22: =IF(ISBLANK(I22),0,SUMIF(D13:D239,I22,G13:G240)) | Q22: {=INDEX($D$14:$D$34,MATCH(0,COUNTIF($Q13:Q21,$D$14:$D$34),0))} | R22: {=INDEX($Q$13:$Q$144,MATCH(0,COUNTIF($R13:R21,$Q$13:$Q$144),0))} | U22: Associate Director
I23: =IF(ISNA(R29)," ",R29) | K23: =IF(ISBLANK(I23),0,SUMIF(D13:D239,I23,G13:G240)) | Q23: {=INDEX($D$14:$D$34,MATCH(0,COUNTIF($Q13:Q22,$D$14:$D$34),0))} | R23: {=INDEX($Q$13:$Q$144,MATCH(0,COUNTIF($R13:R22,$Q$13:$Q$144),0))} | U23: Associate Education Analyst
I24: =IF(ISNA(R30)," ",R30) | K24: =IF(ISBLANK(I24),0,SUMIF(D13:D239,I24,G13:G240)) | Q24: {=INDEX($D$14:$D$34,MATCH(0,COUNTIF($Q13:Q23,$D$14:$D$34),0))} | R24: {=INDEX($Q$13:$Q$144,MATCH(0,COUNTIF($R13:R23,$Q$13:$Q$144),0))} | U24: Associate Medical Director
I25: =IF(ISNA(R31)," ",R31) | K25: =IF(ISBLANK(I25),0,SUMIF(D13:D239,I25,G13:G240)) | Q25: {=INDEX($D$14:$D$34,MATCH(0,COUNTIF($Q13:Q24,$D$14:$D$34),0))} | R25: {=INDEX($Q$13:$Q$144,MATCH(0,COUNTIF($R13:R24,$Q$13:$Q$144),0))} | U25: Associate VP of Programs
I26: =IF(ISNA(R32)," ",R32) | K26: =IF(ISBLANK(I26),0,SUMIF(D13:D239,I26,G13:G240)) | Q26: {=INDEX($D$14:$D$34,MATCH(0,COUNTIF($Q13:Q25,$D$14:$D$34),0))} | R26: {=INDEX($Q$13:$Q$144,MATCH(0,COUNTIF($R13:R25,$Q$13:$Q$144),0))} | U26: Attendance Specialist
I27: =IF(ISNA(R33)," ",R33) | K27: =IF(ISBLANK(I27),0,SUMIF(D13:D239,I27,G13:G240)) | Q27: {=INDEX($D$14:$D$34,MATCH(0,COUNTIF($Q13:Q26,$D$14:$D$34),0))} | R27: {=INDEX($Q$13:$Q$144,MATCH(0,COUNTIF($R13:R26,$Q$13:$Q$144),0))} | U27: Attendant
I28: =IF(ISNA(R34)," ",R34) | K28: =IF(ISBLANK(I28),0,SUMIF(D13:D239,I28,G13:G240)) | Q28: {=INDEX($D$14:$D$34,MATCH(0,COUNTIF($Q13:Q27,$D$14:$D$34),0))} | R28: {=INDEX($Q$13:$Q$144,MATCH(0,COUNTIF($R13:R27,$Q$13:$Q$144),0))} | U28: Attorney
I29: =IF(ISNA(R35)," ",R35) | K29: =IF(ISBLANK(I29),0,SUMIF(D13:D239,I29,G13:G240)) | L29: =IF(ISNA(R35),"",R35) | Q29: {=INDEX($D$14:$D$34,MATCH(0,COUNTIF($Q13:Q28,$D$14:$D$34),0))} | R29: {=INDEX($Q$13:$Q$144,MATCH(0,COUNTIF($R13:R28,$Q$13:$Q$144),0))} | U29: Bilingual Specialist
I30: =IF(ISNA(R36)," ",R36) | K30: =IF(ISBLANK(I30),0,SUMIF(D13:D239,I30,G13:G240)) | Q30: {=INDEX($D$14:$D$34,MATCH(0,COUNTIF($Q13:Q29,$D$14:$D$34),0))} | R30: {=INDEX($Q$13:$Q$144,MATCH(0,COUNTIF($R13:R29,$Q$13:$Q$144),0))} | U30: Budget Manager
I31: =IF(ISNA(R37)," ",R37) | K31: =IF(ISBLANK(I31),0,SUMIF(D13:D239,I31,G13:G240)) | Q31: {=INDEX($D$14:$D$34,MATCH(0,COUNTIF($Q13:Q30,$D$14:$D$34),0))} | R31: {=INDEX($Q$13:$Q$144,MATCH(0,COUNTIF($R13:R30,$Q$13:$Q$144),0))} | U31: Camp Instructor
I32: TOTAL | K32: =SUM(K7:K31) | Q32: {=INDEX($D$14:$D$34,MATCH(0,COUNTIF($Q13:Q31,$D$14:$D$34),0))} | R32: {=INDEX($Q$13:$Q$144,MATCH(0,COUNTIF($R13:R31,$Q$13:$Q$144),0))} | U32: Career Advisor/Coach
I33: REC | K33: =IF(K32=G35+G76+G117+G158+G199+G240,"YES","NO") | Q33: {=INDEX($D$14:$D$34,MATCH(0,COUNTIF($Q13:Q32,$D$14:$D$34),0))} | R33: {=INDEX($Q$13:$Q$144,MATCH(0,COUNTIF($R13:R32,$Q$13:$Q$144),0))} | U33: Case Manager (301)
Q34: {=INDEX($D$14:$D$34,MATCH(0,COUNTIF($Q13:Q33,$D$14:$D$34),0))} | R34: {=INDEX($Q$13:$Q$144,MATCH(0,COUNTIF($R13:R33,$Q$13:$Q$144),0))} | U34: Case Manager Supervisor
G35: =SUM(G13:G34) | I35: FICA | K35: =ROUNDUP(K32*0.0765,2) | P35: PAGE 2A | Q35: {=INDEX($D$54:$D$75,MATCH(0,COUNTIF($Q13:Q34,$D$54:$D$75),0))} | R35: {=INDEX($Q$13:$Q$144,MATCH(0,COUNTIF($R13:R34,$Q$13:$Q$144),0))} | U35: Case Planner/Worker
Q36: {=INDEX($D$55:$D$75,MATCH(0,COUNTIF($Q13:Q35,$D$55:$D$75),0))} | R36: {=INDEX($Q$13:$Q$144,MATCH(0,COUNTIF($R13:R35,$Q$13:$Q$144),0))} | U36: Chief Executive Officer
B37: Footnotes | Q37: {=INDEX($D$56:$D$75,MATCH(0,COUNTIF($Q13:Q36,$D$56:$D$75),0))} | R37: {=INDEX($Q$13:$Q$144,MATCH(0,COUNTIF($R13:R36,$Q$13:$Q$144),0))} | U37: Chief Financial Officer
Q38: {=INDEX($D$57:$D$75,MATCH(0,COUNTIF($Q13:Q37,$D$57:$D$75),0))} | U38: Child Care Provider
Q39: {=INDEX($D$58:$D$79,MATCH(0,COUNTIF($Q13:Q38,$D$58:$D$75),0))} | U39: Clerical Associate
Q40: {=INDEX($D$59:$D$75,MATCH(0,COUNTIF($Q13:Q39,$D$59:$D$75),0))} | U40: Clerk
...

Sheet TITLE CODES
A1: HHS TITLE CODES
A2: Account Manager
A3: Accountant (606)
A4: Accountant/Bookkeeper (703)
A5: Actor
A6: Administrative Assistant (612)
A7: Administrator
A8: After School Program Director
A9: Art Specialist/Arts Partner
A10: Assessment/Intake (SED Only) (251)
A11: Assistant Bookkeeper
A12: Assistant Cook/Meal Preparer
... A294: Youth Worker

Sheet Compatibility Report
B1: Compatibility Report for Current PERS Form.xls
B2: Run on 4/10/2012 13:23
B4: The following features in this workbook are not supported by earlier versions of Excel. These features may be lost or degraded when opening this workbook in an earlier version of Excel or if you save this workbook in an earlier file format.
B6: Significant loss of functionality | E6: # of occurrences | F6: Version
B8: One or more cells in this workbook contain data validation rules which refer to values on other worksheets. These data validation rules will not be saved. | E8: 16
E9: SALARIES FT'!E218:E239 | F9: Excel 97-2003
E10: SALARIES FT'!E13:E34
E11: SALARIES FT'!E54:E75
E12: SALARIES FT'!E95:E116
E13: SALARIES FT'!E136:E157
E14: SALARIES FT'!E177:E198
E15: NON STAFF SERVICES'!B51:B68 | F15: Excel 97-2003
E16: NON STAFF SERVICES'!B13:B30
E17: NON STAFF SERVICES'!B88:B105
E18: NON STAFF SERVICES'!B125:B142
E19: NON STAFF SERVICES'!B162:B179
E20: OTPS'!D55:D76 | F20: Excel 97-2003
E21: OTPS'!D178:D199
E22: OTPS'!D137:D158
E23: OTPS'!D96:D117
E24: OTPS'!D13:D35
